BEGIN:VCALENDAR
VERSION:2.0
PRODID:-//Gårdstensbostäder - ECPv5.9.1//NONSGML v1.0//EN
CALSCALE:GREGORIAN
METHOD:PUBLISH
X-WR-CALNAME:Gårdstensbostäder
X-ORIGINAL-URL:https://minasidor.gardstensbostader.se
X-WR-CALDESC:Händelser för Gårdstensbostäder
BEGIN:VTIMEZONE
TZID:Europe/Stockholm
BEGIN:DAYLIGHT
TZOFFSETFROM:+0100
TZOFFSETTO:+0200
TZNAME:CEST
DTSTART:20170326T010000
END:DAYLIGHT
BEGIN:STANDARD
TZOFFSETFROM:+0200
TZOFFSETTO:+0100
TZNAME:CET
DTSTART:20171029T010000
END:STANDARD
END:VTIMEZONE
BEGIN:VEVENT
DTSTART;TZID=Europe/Stockholm:20170201T160000
DTEND;TZID=Europe/Stockholm:20170201T190000
DTSTAMP:20260423T023632
CREATED:20161010T081039Z
LAST-MODIFIED:20170124T103608Z
UID:5281-1485964800-1485975600@minasidor.gardstensbostader.se
SUMMARY:Samrådsmöte i Boutställningen
DESCRIPTION:Varje onsdag har vi öppet i utställningslokalen i Gårdstens Centrum. Här kan du ta del av alla de byggnationer som pågår och de som planeras i Gårdsten. Utställningen handlar om Gårdstens vision 2025 som innebär totalt 1000 nya bostäder på 10 år i Gårdsten. \nIdag: Samrådsmöte för bostadsbyggande vid Gårdstens Centrum kl. 16-19. \nSamrådsutställningen för Gårdstens Centrum 25/1-22/2. \nVälkomna in!
URL:https://minasidor.gardstensbostader.se/evenemanget/boutstallning-2017-02-01/
ORGANIZER;CN="G%C3%A5rdstensbost%C3%A4der":MAILTO:gbg@gardstensbostader.se
END:VEVENT
END:VCALENDAR