BEGIN:VCALENDAR
VERSION:2.0
PRODID:-//Gårdstensbostäder - ECPv5.9.1//NONSGML v1.0//EN
CALSCALE:GREGORIAN
METHOD:PUBLISH
X-WR-CALNAME:Gårdstensbostäder
X-ORIGINAL-URL:https://minasidor.gardstensbostader.se
X-WR-CALDESC:Händelser för Gårdstensbostäder
BEGIN:VTIMEZONE
TZID:Europe/Stockholm
BEGIN:DAYLIGHT
TZOFFSETFROM:+0100
TZOFFSETTO:+0200
TZNAME:CEST
DTSTART:20170326T010000
END:DAYLIGHT
BEGIN:STANDARD
TZOFFSETFROM:+0200
TZOFFSETTO:+0100
TZNAME:CET
DTSTART:20171029T010000
END:STANDARD
END:VTIMEZONE
BEGIN:VEVENT
DTSTART;TZID=Europe/Stockholm:20170531T160000
DTEND;TZID=Europe/Stockholm:20170531T190000
DTSTAMP:20260422T213311
CREATED:20161010T081039Z
LAST-MODIFIED:20170523T151202Z
UID:5298-1496246400-1496257200@minasidor.gardstensbostader.se
SUMMARY:Jubileumsutställning Gårdstens Centrum
DESCRIPTION:Välkomna på Vernissage för vår Jubileumsutställning. \nI år fyller Gårdstensbostäder 20 år och det firar vi lite extra. Därför har vi satt ihop en utställning över viktiga händelser som hänt under bolaget första 20 år från 1997 till idag 2017. Vi har därför öppet lite längre denna dag och bjuder på lite tilltugg för den som kommer tidigt. \nBoutställningen: \nUtställningen har vi kvar i en lite krympt form som man kan ta del av. \nVälkomna in!
URL:https://minasidor.gardstensbostader.se/evenemanget/boutstallning-2017-05-31/
ORGANIZER;CN="G%C3%A5rdstensbost%C3%A4der":MAILTO:gbg@gardstensbostader.se
END:VEVENT
END:VCALENDAR