BEGIN:VCALENDAR
VERSION:2.0
PRODID:-//Gårdstensbostäder - ECPv5.9.1//NONSGML v1.0//EN
CALSCALE:GREGORIAN
METHOD:PUBLISH
X-WR-CALNAME:Gårdstensbostäder
X-ORIGINAL-URL:https://minasidor.gardstensbostader.se
X-WR-CALDESC:Händelser för Gårdstensbostäder
BEGIN:VTIMEZONE
TZID:Europe/Stockholm
BEGIN:DAYLIGHT
TZOFFSETFROM:+0100
TZOFFSETTO:+0200
TZNAME:CEST
DTSTART:20160327T010000
END:DAYLIGHT
BEGIN:STANDARD
TZOFFSETFROM:+0200
TZOFFSETTO:+0100
TZNAME:CET
DTSTART:20161030T010000
END:STANDARD
END:VTIMEZONE
BEGIN:VEVENT
DTSTART;TZID=Europe/Stockholm:20161008T190000
DTEND;TZID=Europe/Stockholm:20161008T220000
DTSTAMP:20260423T090121
CREATED:20161006T115608Z
LAST-MODIFIED:20161006T115608Z
UID:4936-1475953200-1475964000@minasidor.gardstensbostader.se
SUMMARY:Bowie-konsert via bredbandet
DESCRIPTION:Bowie-konsert med Göteborgs Symfoniker direktsänds för Framtidens hyresgäster\n \nDe tre konserterna med David Bowie: Berlintrilogin 6-8 oktober sålde snabbt slut. För alla som är hyresgäster hos Framtiden ges det dock en chans att se konserten live hemma på tv:n lördag den 8 oktober kl 19. Medverkar gör artistprofilerna Magnus Carlson\, Jennie Abrahamsson och Moto Boy samt Göteborgs Symfoniker och Göteborgs Symfoniska Kör under ledning av Hans Ek. \nKonserten kan ses av hyresgäster hos Poseidon\, Bostadsbolaget\, Familjebostäder och Gårdstensbostäder som alla ingår i Framtidenkoncernen. Sändningen sker via bredbandet. Samarbetet mellan Göteborgs Symfoniker och Framtidenkoncernen inleddes förra säsongen och har resulterat i ett flertal direktsändningar. \nDavid Bowie: Berlintrilogin är en hyllning till David Bowie och hans msuik. Föreställningen har sin utgångspunkt i ”Berlintrilogin”\, albumen Low\, Heroes och Lodger. Musiken skapade David Bowie tillsammans med Brian Eno i en kreativ explosion med slagkraftiga poplåtar och symfoniskt färgad elektronisk musik. Heroes gav röst åt en hel generation och blev en mäktig kampsång för alla som ville utforma sina liv på egna villkor. \nGöteborgs Symfoniker\nManskör ur Göteborgs Symfoniska Kör\nMagnus Carlson\nJennie Abrahamsson\nMoto Boy\nDirigent Hans Ek \nTorsdag 6 oktober kl 19.30\nFredag 7 oktober kl 18\nLördag 8 oktober kl 19 (direktsändning Framtiden) \nGå in på www.framtidenmusik.se\, lösenord: framtiden
URL:https://minasidor.gardstensbostader.se/evenemanget/bowie-konsert-via-bredbandet/
LOCATION:Hemma hos dig
END:VEVENT
END:VCALENDAR