BEGIN:VCALENDAR
VERSION:2.0
PRODID:-//Gårdstensbostäder - ECPv5.9.1//NONSGML v1.0//EN
CALSCALE:GREGORIAN
METHOD:PUBLISH
X-WR-CALNAME:Gårdstensbostäder
X-ORIGINAL-URL:https://minasidor.gardstensbostader.se
X-WR-CALDESC:Händelser för Gårdstensbostäder
BEGIN:VTIMEZONE
TZID:Europe/Stockholm
BEGIN:DAYLIGHT
TZOFFSETFROM:+0100
TZOFFSETTO:+0200
TZNAME:CEST
DTSTART:20160327T010000
END:DAYLIGHT
BEGIN:STANDARD
TZOFFSETFROM:+0200
TZOFFSETTO:+0100
TZNAME:CET
DTSTART:20161030T010000
END:STANDARD
END:VTIMEZONE
BEGIN:VEVENT
DTSTART;TZID=Europe/Stockholm:20160809T133000
DTEND;TZID=Europe/Stockholm:20160809T163000
DTSTAMP:20260423T120237
CREATED:20160607T083948Z
LAST-MODIFIED:20160627T100258Z
UID:3444-1470749400-1470760200@minasidor.gardstensbostader.se
SUMMARY:Datorsupport & hushållsbudget
DESCRIPTION:Om du är 55+ och senior och behöver hjälp med dator\, surfplatta eller smartphones är du välkommen varje tisdag. Boka tid hos Gull-Britt direkt på telefon 070-406 81 05 eller via epost: gullran@hotmail.com.
URL:https://minasidor.gardstensbostader.se/evenemanget/datorsupport-hushallsbudget/2016-08-09/
LOCATION:Seniorlokalen i Gårdstenshuset\, Muskotgatan 10\, Angered\, 42441\, Sverige
GEO:57.8040901;12.0314352
X-APPLE-STRUCTURED-LOCATION;VALUE=URI;X-ADDRESS=Seniorlokalen i Gårdstenshuset Muskotgatan 10 Angered 42441 Sverige;X-APPLE-RADIUS=500;X-TITLE=Muskotgatan 10:geo:12.0314352,57.8040901
END:VEVENT
END:VCALENDAR