BEGIN:VCALENDAR
VERSION:2.0
PRODID:-//Gårdstensbostäder - ECPv5.9.1//NONSGML v1.0//EN
CALSCALE:GREGORIAN
METHOD:PUBLISH
X-WR-CALNAME:Gårdstensbostäder
X-ORIGINAL-URL:https://minasidor.gardstensbostader.se
X-WR-CALDESC:Händelser för Gårdstensbostäder
BEGIN:VTIMEZONE
TZID:Europe/Stockholm
BEGIN:DAYLIGHT
TZOFFSETFROM:+0100
TZOFFSETTO:+0200
TZNAME:CEST
DTSTART:20160327T010000
END:DAYLIGHT
BEGIN:STANDARD
TZOFFSETFROM:+0200
TZOFFSETTO:+0100
TZNAME:CET
DTSTART:20161030T010000
END:STANDARD
END:VTIMEZONE
BEGIN:VEVENT
DTSTART;TZID=Europe/Stockholm:20161212T103000
DTEND;TZID=Europe/Stockholm:20161212T110000
DTSTAMP:20260423T055649
CREATED:20161207T093403Z
LAST-MODIFIED:20161207T094631Z
UID:5068-1481538600-1481540400@minasidor.gardstensbostader.se
SUMMARY:El Sistema kören ”Vita Händer” kl. 10.30
DESCRIPTION:Kom och lyssna ppå El sistema kören ”Vita Händer” som uppträder i Gårdstens Centrum.\nEl Sistema kören Vita Händer uppträder inne på torget. Ca 45 barn från två förskolor Romano Ilo och Kanelgatans förskola. VÄLKOMNA!
URL:https://minasidor.gardstensbostader.se/evenemanget/el-sistema-koren-vita-hander-kl-10-30/
LOCATION:Gårdstens Centrum\, Muskotgatan 5\, Angered\, 42441\, Sverige
GEO:57.8038994;12.0320955
X-APPLE-STRUCTURED-LOCATION;VALUE=URI;X-ADDRESS=Gårdstens Centrum Muskotgatan 5 Angered 42441 Sverige;X-APPLE-RADIUS=500;X-TITLE=Muskotgatan 5:geo:12.0320955,57.8038994
END:VEVENT
END:VCALENDAR