BEGIN:VCALENDAR
VERSION:2.0
PRODID:-//Gårdstensbostäder - ECPv5.9.1//NONSGML v1.0//EN
CALSCALE:GREGORIAN
METHOD:PUBLISH
X-WR-CALNAME:Gårdstensbostäder
X-ORIGINAL-URL:https://minasidor.gardstensbostader.se
X-WR-CALDESC:Händelser för Gårdstensbostäder
BEGIN:VTIMEZONE
TZID:Europe/Stockholm
BEGIN:DAYLIGHT
TZOFFSETFROM:+0100
TZOFFSETTO:+0200
TZNAME:CEST
DTSTART:20170326T010000
END:DAYLIGHT
BEGIN:STANDARD
TZOFFSETFROM:+0200
TZOFFSETTO:+0100
TZNAME:CET
DTSTART:20171029T010000
END:STANDARD
END:VTIMEZONE
BEGIN:VEVENT
DTSTART;TZID=Europe/Stockholm:20170209T170000
DTEND;TZID=Europe/Stockholm:20170209T183000
DTSTAMP:20260423T023711
CREATED:20170209T111818Z
LAST-MODIFIED:20170508T122958Z
UID:5521-1486659600-1486665000@minasidor.gardstensbostader.se
SUMMARY:Fotboll med GAIS
DESCRIPTION:Varje vecka\, på torsdagar\, tränar pojkar och flickor 6-12 år fotboll tillsammans med GAIS.  Om du är intresserad kontaktar du Mikael Lindström\, GAIS Akademiansvarig direkt. Tel.nr: 0707-213935
URL:https://minasidor.gardstensbostader.se/evenemanget/fotboll-med-gais/2017-02-09/
LOCATION:Gårdstensdalen vid utegymmet\, Peppargatan 43\, Angered\, 42439\, Sverige
GEO:57.8029609;12.0275176
X-APPLE-STRUCTURED-LOCATION;VALUE=URI;X-ADDRESS=Gårdstensdalen vid utegymmet Peppargatan 43 Angered 42439 Sverige;X-APPLE-RADIUS=500;X-TITLE=Peppargatan 43:geo:12.0275176,57.8029609
END:VEVENT
END:VCALENDAR