BEGIN:VCALENDAR
VERSION:2.0
PRODID:-//Gårdstensbostäder - ECPv5.9.1//NONSGML v1.0//EN
CALSCALE:GREGORIAN
METHOD:PUBLISH
X-WR-CALNAME:Gårdstensbostäder
X-ORIGINAL-URL:https://minasidor.gardstensbostader.se
X-WR-CALDESC:Händelser för Gårdstensbostäder
BEGIN:VTIMEZONE
TZID:Europe/Stockholm
BEGIN:DAYLIGHT
TZOFFSETFROM:+0100
TZOFFSETTO:+0200
TZNAME:CEST
DTSTART:20160327T010000
END:DAYLIGHT
BEGIN:STANDARD
TZOFFSETFROM:+0200
TZOFFSETTO:+0100
TZNAME:CET
DTSTART:20161030T010000
END:STANDARD
END:VTIMEZONE
BEGIN:VEVENT
DTSTART;VALUE=DATE:20160611
DTEND;VALUE=DATE:20160612
DTSTAMP:20260423T200421
CREATED:20160309T102403Z
LAST-MODIFIED:20160610T071711Z
UID:1967-1465603200-1465689599@minasidor.gardstensbostader.se
SUMMARY:Gårdstensdagen
DESCRIPTION:Välkomna till Gårdstensdagen den 11 juni kl. 12-18 i Gårdstensdalen.\nProgram och aktiviteter under dagen. \nMusik och uppträdanden\nKonferencier för dagen: Jens Ericsson\n11.45-12.30 Kungälvs Musikkår med drillflickorna\, tågar genom Gårdsten och avslutar med program i Dalen\n12.30-13.15 El Sistema – barngrupp från Gårdsten uppträder\n13.15-13.30 Khaled Harare – rappare (därefter har han workshop i Bokbussen)\n13.30-13.45 Dansgruppen Swetch\n13.45-15.00 Jens Ericsson underhåller\, trolleri av Mr Berger och Gycklare Ann samt öppen scen\n15.00-16.00 Kexan och Hanna underhåller\n16.00-17.00 Samuel Mateega\, Gafur Xhaferi\, Joseph Persson och Lars Svensson – sjunger blandat\n17.00-18.00 Gabriel Aguilera The Band – latin-rock \nAktiviteter\nTombola\, fiskdamm\, hoppborg\, säckhoppning\, fotbollsskola\, MiniVarvet\, Loppis och second hand\, Mosaikfabriken\, minigolf\, ansiktsmålning\, och mycket\, mycket mer. Café med hembakat och grillat från Babak Kött & Chark finns att köpa. \nFler aktiviteter:\nSvenska Kyrkan – Barnrytmik\, sång och workshop\nGAIS – Fotbollsskola på gräsplanen\nMiniVarvet – För de små barnen\, löpning \nGårdstensdagen görs i samarbete med: Hyresgästföreningen västra och norra Gårdsten\, GAIS\, GöteborgsVarvet\, Mamas Retro\, Göteborg & Co\, Svenska Kyrkan\, Bokbussen\, Göteborgs Stad\, GSO Play och GKSS.
URL:https://minasidor.gardstensbostader.se/evenemanget/gardstensdagen/2016-06-11/
LOCATION:Gårdstensdalen vid utegymmet\, Peppargatan 43\, Angered\, 42439\, Sverige
ORGANIZER;CN="G%C3%A5rdstensbost%C3%A4der":MAILTO:gbg@gardstensbostader.se
GEO:57.8029609;12.0275176
X-APPLE-STRUCTURED-LOCATION;VALUE=URI;X-ADDRESS=Gårdstensdalen vid utegymmet Peppargatan 43 Angered 42439 Sverige;X-APPLE-RADIUS=500;X-TITLE=Peppargatan 43:geo:12.0275176,57.8029609
END:VEVENT
END:VCALENDAR