BEGIN:VCALENDAR
VERSION:2.0
PRODID:-//Gårdstensbostäder - ECPv5.9.1//NONSGML v1.0//EN
CALSCALE:GREGORIAN
METHOD:PUBLISH
X-WR-CALNAME:Gårdstensbostäder
X-ORIGINAL-URL:https://minasidor.gardstensbostader.se
X-WR-CALDESC:Händelser för Gårdstensbostäder
BEGIN:VTIMEZONE
TZID:Europe/Stockholm
BEGIN:DAYLIGHT
TZOFFSETFROM:+0100
TZOFFSETTO:+0200
TZNAME:CEST
DTSTART:20160327T010000
END:DAYLIGHT
BEGIN:STANDARD
TZOFFSETFROM:+0200
TZOFFSETTO:+0100
TZNAME:CET
DTSTART:20161030T010000
END:STANDARD
END:VTIMEZONE
BEGIN:VEVENT
DTSTART;TZID=Europe/Stockholm:20161213T130000
DTEND;TZID=Europe/Stockholm:20161213T140000
DTSTAMP:20260423T073020
CREATED:20161207T093100Z
LAST-MODIFIED:20161207T094720Z
UID:5067-1481634000-1481637600@minasidor.gardstensbostader.se
SUMMARY:Gårdstensskolans Luciatåg kl. 13.00
DESCRIPTION:Kom och fika med oss. Gårdstensbostäder kröner Gårdstensskolans Lucia och bjuder på glögg och kaffe med tillbehör. VÄLKOMNA! \nBild: Gårdstensskolans luciatåg 2015
URL:https://minasidor.gardstensbostader.se/evenemanget/gardstensskolans-luciatag-kl-13-00/
LOCATION:Gårdstens Centrum\, Muskotgatan 5\, Angered\, 42441\, Sverige
ORGANIZER;CN="G%C3%A5rdstensbost%C3%A4der":MAILTO:gbg@gardstensbostader.se
GEO:57.8038994;12.0320955
X-APPLE-STRUCTURED-LOCATION;VALUE=URI;X-ADDRESS=Gårdstens Centrum Muskotgatan 5 Angered 42441 Sverige;X-APPLE-RADIUS=500;X-TITLE=Muskotgatan 5:geo:12.0320955,57.8038994
END:VEVENT
END:VCALENDAR