BEGIN:VCALENDAR
VERSION:2.0
PRODID:-//Gårdstensbostäder - ECPv5.9.1//NONSGML v1.0//EN
CALSCALE:GREGORIAN
METHOD:PUBLISH
X-WR-CALNAME:Gårdstensbostäder
X-ORIGINAL-URL:https://minasidor.gardstensbostader.se
X-WR-CALDESC:Händelser för Gårdstensbostäder
BEGIN:VTIMEZONE
TZID:Europe/Stockholm
BEGIN:DAYLIGHT
TZOFFSETFROM:+0100
TZOFFSETTO:+0200
TZNAME:CEST
DTSTART:20160327T010000
END:DAYLIGHT
BEGIN:STANDARD
TZOFFSETFROM:+0200
TZOFFSETTO:+0100
TZNAME:CET
DTSTART:20161030T010000
END:STANDARD
END:VTIMEZONE
BEGIN:VEVENT
DTSTART;TZID=Europe/Stockholm:20160816T130000
DTEND;TZID=Europe/Stockholm:20160816T190000
DTSTAMP:20260423T151736
CREATED:20160809T092424Z
LAST-MODIFIED:20160809T092614Z
UID:4789-1471352400-1471374000@minasidor.gardstensbostader.se
SUMMARY:Gratis buss
DESCRIPTION:Åk gratis buss till Kulturkalaset. Avgår varje hel timma från kl. 13 från Gårdstens Centrum. Bussen går via Hammarkullen och Hjällbo Centrum och sedan direkt ner till Heden (Exercishuset).\nVälkomna att uppleva Kulturkalaset 16-21 augusti.\nMer information finns under: Nyheter på startsidan>>
URL:https://minasidor.gardstensbostader.se/evenemanget/gratis-buss/2016-08-16/
LOCATION:Gårdstens Centrum\, Muskotgatan 5\, Angered\, 42441\, Sverige
ORGANIZER;CN="G%C3%A5rdstensbost%C3%A4der":MAILTO:gbg@gardstensbostader.se
GEO:57.8038994;12.0320955
X-APPLE-STRUCTURED-LOCATION;VALUE=URI;X-ADDRESS=Gårdstens Centrum Muskotgatan 5 Angered 42441 Sverige;X-APPLE-RADIUS=500;X-TITLE=Muskotgatan 5:geo:12.0320955,57.8038994
END:VEVENT
END:VCALENDAR