BEGIN:VCALENDAR
VERSION:2.0
PRODID:-//Gårdstensbostäder - ECPv5.9.1//NONSGML v1.0//EN
CALSCALE:GREGORIAN
METHOD:PUBLISH
X-WR-CALNAME:Gårdstensbostäder
X-ORIGINAL-URL:https://minasidor.gardstensbostader.se
X-WR-CALDESC:Händelser för Gårdstensbostäder
BEGIN:VTIMEZONE
TZID:Europe/Stockholm
BEGIN:DAYLIGHT
TZOFFSETFROM:+0100
TZOFFSETTO:+0200
TZNAME:CEST
DTSTART:20170326T010000
END:DAYLIGHT
BEGIN:STANDARD
TZOFFSETFROM:+0200
TZOFFSETTO:+0100
TZNAME:CET
DTSTART:20171029T010000
END:STANDARD
END:VTIMEZONE
BEGIN:VEVENT
DTSTART;TZID=Europe/Stockholm:20170503T140000
DTEND;TZID=Europe/Stockholm:20170503T150000
DTSTAMP:20260422T231739
CREATED:20160627T084537Z
LAST-MODIFIED:20170504T065442Z
UID:4674-1493820000-1493823600@minasidor.gardstensbostader.se
SUMMARY:Gratisgympa med Hälsoteket
DESCRIPTION:Välkomna till ”Kom igång-gympa” för kvinnor. \nGympa varje vecka med Hälsoteket. Välkommen till Timjansgården varje onsdag. \n  \n 
URL:https://minasidor.gardstensbostader.se/evenemanget/gratisgympa-med-halsoteket-3-2016-12-07/2017-05-03/
LOCATION:Timjansgården\, Saffransgatan 3\, Angered\, 424 42\, Sverige
GEO:57.810124;12.0280473
X-APPLE-STRUCTURED-LOCATION;VALUE=URI;X-ADDRESS=Timjansgården Saffransgatan 3 Angered 424 42 Sverige;X-APPLE-RADIUS=500;X-TITLE=Saffransgatan 3:geo:12.0280473,57.810124
END:VEVENT
END:VCALENDAR