BEGIN:VCALENDAR
VERSION:2.0
PRODID:-//Gårdstensbostäder - ECPv5.9.1//NONSGML v1.0//EN
CALSCALE:GREGORIAN
METHOD:PUBLISH
X-WR-CALNAME:Gårdstensbostäder
X-ORIGINAL-URL:https://minasidor.gardstensbostader.se
X-WR-CALDESC:Händelser för Gårdstensbostäder
BEGIN:VTIMEZONE
TZID:Europe/Stockholm
BEGIN:DAYLIGHT
TZOFFSETFROM:+0100
TZOFFSETTO:+0200
TZNAME:CEST
DTSTART:20170326T010000
END:DAYLIGHT
BEGIN:STANDARD
TZOFFSETFROM:+0200
TZOFFSETTO:+0100
TZNAME:CET
DTSTART:20171029T010000
END:STANDARD
END:VTIMEZONE
BEGIN:VEVENT
DTSTART;TZID=Europe/Stockholm:20171009T150000
DTEND;TZID=Europe/Stockholm:20171009T160000
DTSTAMP:20260421T120821
CREATED:20171005T081550Z
LAST-MODIFIED:20171005T082127Z
UID:6996-1507561200-1507564800@minasidor.gardstensbostader.se
SUMMARY:Hälsostugan - Hopp & Spring
DESCRIPTION:Alla gårdstensbarn 8-12 år är välkomna till Hopp & Spring med Johanna och Awet. \nTid: Måndagar kl. 15-16 \nPlats: Gårdstensskolans idrottshall. \nAnmälan sker på plats och aktiviteten är gratis. \n \n 
URL:https://minasidor.gardstensbostader.se/evenemanget/halsostugan-hopp-sprin/2017-10-09/
LOCATION:Gårdstensskolans Sporthall Idrottshall\, Muskotgatan 2A\, Angered\, 42441\, Sverige
ATTACH;FMTTYPE=image/jpeg:/wp-content/uploads/Awat_bara.jpg
ORGANIZER;CN="H%C3%A4lsostugan":MAILTO:jenny.perez-grannas@gardstensbostader.se
GEO:57.8034685;12.0307171
X-APPLE-STRUCTURED-LOCATION;VALUE=URI;X-ADDRESS=Gårdstensskolans Sporthall Idrottshall Muskotgatan 2A Angered 42441 Sverige;X-APPLE-RADIUS=500;X-TITLE=Muskotgatan 2A:geo:12.0307171,57.8034685
END:VEVENT
END:VCALENDAR