BEGIN:VCALENDAR
VERSION:2.0
PRODID:-//Gårdstensbostäder - ECPv5.9.1//NONSGML v1.0//EN
CALSCALE:GREGORIAN
METHOD:PUBLISH
X-WR-CALNAME:Gårdstensbostäder
X-ORIGINAL-URL:https://minasidor.gardstensbostader.se
X-WR-CALDESC:Händelser för Gårdstensbostäder
BEGIN:VTIMEZONE
TZID:Europe/Stockholm
BEGIN:DAYLIGHT
TZOFFSETFROM:+0100
TZOFFSETTO:+0200
TZNAME:CEST
DTSTART:20170326T010000
END:DAYLIGHT
BEGIN:STANDARD
TZOFFSETFROM:+0200
TZOFFSETTO:+0100
TZNAME:CET
DTSTART:20171029T010000
END:STANDARD
END:VTIMEZONE
BEGIN:VEVENT
DTSTART;TZID=Europe/Stockholm:20171005T130000
DTEND;TZID=Europe/Stockholm:20171130T134500
DTSTAMP:20260421T135437
CREATED:20171005T075514Z
LAST-MODIFIED:20180514T094733Z
UID:6984-1507208400-1512049500@minasidor.gardstensbostader.se
SUMMARY:Hälsostugan - Lätt styrka och balans
DESCRIPTION:Hälsostugan – Lätt styrka och balansträning för dig som är 55+. En enklare träning för dig som är lite äldre. \nLedare: Johanna Froode på Hälsostugan. \nMer aktiviteter med Hälsostugan på Kaneltorget läser du på denna länk>>
URL:https://minasidor.gardstensbostader.se/evenemanget/halsostugan-latt-styrka-och-balans/2017-10-05/
LOCATION:Seniorlokalen i Gårdstenshuset\, Muskotgatan 10\, Angered\, 42441\, Sverige
ORGANIZER;CN="G%C3%A5rdstensbost%C3%A4der":MAILTO:gbg@gardstensbostader.se
GEO:57.8040901;12.0314352
X-APPLE-STRUCTURED-LOCATION;VALUE=URI;X-ADDRESS=Seniorlokalen i Gårdstenshuset Muskotgatan 10 Angered 42441 Sverige;X-APPLE-RADIUS=500;X-TITLE=Muskotgatan 10:geo:12.0314352,57.8040901
END:VEVENT
END:VCALENDAR