BEGIN:VCALENDAR
VERSION:2.0
PRODID:-//Gårdstensbostäder - ECPv5.9.1//NONSGML v1.0//EN
CALSCALE:GREGORIAN
METHOD:PUBLISH
X-WR-CALNAME:Gårdstensbostäder
X-ORIGINAL-URL:https://minasidor.gardstensbostader.se
X-WR-CALDESC:Händelser för Gårdstensbostäder
BEGIN:VTIMEZONE
TZID:Europe/Stockholm
BEGIN:DAYLIGHT
TZOFFSETFROM:+0100
TZOFFSETTO:+0200
TZNAME:CEST
DTSTART:20170326T010000
END:DAYLIGHT
BEGIN:STANDARD
TZOFFSETFROM:+0200
TZOFFSETTO:+0100
TZNAME:CET
DTSTART:20171029T010000
END:STANDARD
END:VTIMEZONE
BEGIN:VEVENT
DTSTART;TZID=Europe/Stockholm:20170426T130000
DTEND;TZID=Europe/Stockholm:20170426T190000
DTSTAMP:20260423T011234
CREATED:20170308T130107Z
LAST-MODIFIED:20170502T100340Z
UID:5627-1493211600-1493233200@minasidor.gardstensbostader.se
SUMMARY:Hälsostugan öppen
DESCRIPTION:Hälsostugan är öppen i samarbete mellan Gårdstensbostäder och Angereds Närsjukhus. \nHälsostugan ligger i gymmets lokaler vid Kaneltorget. Det är en mötesplats för hälsofrämjande aktiviteter. \nPlats: Gymmet vid Kaneltorget \nÖppettider: \nTisdagar 13-17 (gymmet öppet kl. 15.30-17) \nOnsdagar 13-19 (gruppträning kl. 17.30-19) \nTorsdagar 14-18
URL:https://minasidor.gardstensbostader.se/evenemanget/halsostugan-oppen-2-2017-04-26/2017-04-26/
LOCATION:Gårdstens Gym\, Kaneltorget 1\, Angered\, Sverige
ATTACH;FMTTYPE=image/jpeg:/wp-content/uploads/HalsostuganGardsten_logotyp.jpg
GEO:57.8031846;12.0254379
X-APPLE-STRUCTURED-LOCATION;VALUE=URI;X-ADDRESS=Gårdstens Gym Kaneltorget 1 Angered Sverige;X-APPLE-RADIUS=500;X-TITLE=Kaneltorget 1:geo:12.0254379,57.8031846
END:VEVENT
END:VCALENDAR