BEGIN:VCALENDAR
VERSION:2.0
PRODID:-//Gårdstensbostäder - ECPv5.9.1//NONSGML v1.0//EN
CALSCALE:GREGORIAN
METHOD:PUBLISH
X-WR-CALNAME:Gårdstensbostäder
X-ORIGINAL-URL:https://minasidor.gardstensbostader.se
X-WR-CALDESC:Händelser för Gårdstensbostäder
BEGIN:VTIMEZONE
TZID:Europe/Stockholm
BEGIN:DAYLIGHT
TZOFFSETFROM:+0100
TZOFFSETTO:+0200
TZNAME:CEST
DTSTART:20170326T010000
END:DAYLIGHT
BEGIN:STANDARD
TZOFFSETFROM:+0200
TZOFFSETTO:+0100
TZNAME:CET
DTSTART:20171029T010000
END:STANDARD
END:VTIMEZONE
BEGIN:VEVENT
DTSTART;TZID=Europe/Stockholm:20170905T130000
DTEND;TZID=Europe/Stockholm:20170905T140000
DTSTAMP:20260421T183729
CREATED:20170904T121153Z
LAST-MODIFIED:20170904T121505Z
UID:6895-1504616400-1504620000@minasidor.gardstensbostader.se
SUMMARY:Hälsostugan - Yoga
DESCRIPTION:Hälsostugan är öppen för alla Gårdstensbor. Här tränar vi tillsammans och håller kurser om levnadsvanor exempelvis. \nVarje tisdag har vi yoga. \nAlla aktiviteter är gratis och ingen föranmälan krävs. \nMer information om Hälsostugan
URL:https://minasidor.gardstensbostader.se/evenemanget/halsostugan-yoga/2017-09-05/
LOCATION:Hälsostugan\, Kaneltorget 1\, 424 39 Angered\, 42439\, Sverige
ORGANIZER;CN="G%C3%A5rdstensbost%C3%A4der":MAILTO:gbg@gardstensbostader.se
GEO:57.8059833;12.0249729
X-APPLE-STRUCTURED-LOCATION;VALUE=URI;X-ADDRESS=Hälsostugan Kaneltorget 1 424 39 Angered 42439 Sverige;X-APPLE-RADIUS=500;X-TITLE=Kaneltorget 1:geo:12.0249729,57.8059833
END:VEVENT
END:VCALENDAR