BEGIN:VCALENDAR
VERSION:2.0
PRODID:-//Gårdstensbostäder - ECPv5.9.1//NONSGML v1.0//EN
CALSCALE:GREGORIAN
METHOD:PUBLISH
X-WR-CALNAME:Gårdstensbostäder
X-ORIGINAL-URL:https://minasidor.gardstensbostader.se
X-WR-CALDESC:Händelser för Gårdstensbostäder
BEGIN:VTIMEZONE
TZID:Europe/Stockholm
BEGIN:DAYLIGHT
TZOFFSETFROM:+0100
TZOFFSETTO:+0200
TZNAME:CEST
DTSTART:20160327T010000
END:DAYLIGHT
BEGIN:STANDARD
TZOFFSETFROM:+0200
TZOFFSETTO:+0100
TZNAME:CET
DTSTART:20161030T010000
END:STANDARD
END:VTIMEZONE
BEGIN:VEVENT
DTSTART;TZID=Europe/Stockholm:20160919T180000
DTEND;TZID=Europe/Stockholm:20160919T200000
DTSTAMP:20260423T090105
CREATED:20160916T112131Z
LAST-MODIFIED:20160916T112154Z
UID:4921-1474308000-1474315200@minasidor.gardstensbostader.se
SUMMARY:Bomöte Saffransgatan
DESCRIPTION:Dialogmöte om nya parkeringsplatser och bostäder på Saffransgatan\nVision Gårdsten 2025 vill skapa 1000 nya bostäder i Gårdsten på 10 år. I norra Gårdsten planeras det nu för 350 av dessa bostäder.\nDe nya bostäderna kommer att innebära nya parkeringsplatser för hyresgästerna på Saffransgatan. Vi kommer presentera några förslag på alternativa parkeringslösningar för hyresgästerna.\nEgnahemsbolagets vill också passa på att visa tankar kring de nya bostäderna som planeras på Saffransgatan.\nVi är intresserade av både tankar och åsikter på förslagen för det fortsatta arbetet. \nTid: Måndag den 19 september kl. 18-20\nPlats: Timjansgården\, norra Gårdsten \nVälkomna! \nGÅRDSTENSBOSTÄDER AB\nChrister Sjödin\, huschef \nEGNAHEMSBOLAGET\nLinda Holm\, projektutvecklare \nMed på mötet är även:\nFörfattarna till visionen Ann-Sofie Jeppson\, AB Framtiden och Nisse Hassellöf\, QPG arkitekter. Michael Pirosanto och Anki Caspersson Gårdstensbostäder samt representanter för Egnahemsbolaget Malin Karlsson och Erik Hallgren från Okidoki! Arkitekter.
URL:https://minasidor.gardstensbostader.se/evenemanget/hyresgastmote-saffransgatan/
LOCATION:Timjansgården\, Saffransgatan 3\, Angered\, 424 42\, Sverige
GEO:57.810124;12.0280473
X-APPLE-STRUCTURED-LOCATION;VALUE=URI;X-ADDRESS=Timjansgården Saffransgatan 3 Angered 424 42 Sverige;X-APPLE-RADIUS=500;X-TITLE=Saffransgatan 3:geo:12.0280473,57.810124
END:VEVENT
END:VCALENDAR