BEGIN:VCALENDAR
VERSION:2.0
PRODID:-//Gårdstensbostäder - ECPv5.9.1//NONSGML v1.0//EN
CALSCALE:GREGORIAN
METHOD:PUBLISH
X-WR-CALNAME:Gårdstensbostäder
X-ORIGINAL-URL:https://minasidor.gardstensbostader.se
X-WR-CALDESC:Händelser för Gårdstensbostäder
BEGIN:VTIMEZONE
TZID:Europe/Stockholm
BEGIN:DAYLIGHT
TZOFFSETFROM:+0100
TZOFFSETTO:+0200
TZNAME:CEST
DTSTART:20160327T010000
END:DAYLIGHT
BEGIN:STANDARD
TZOFFSETFROM:+0200
TZOFFSETTO:+0100
TZNAME:CET
DTSTART:20161030T010000
END:STANDARD
END:VTIMEZONE
BEGIN:VEVENT
DTSTART;TZID=Europe/Stockholm:20160819T100000
DTEND;TZID=Europe/Stockholm:20160819T140000
DTSTAMP:20260423T133408
CREATED:20160530T141249Z
LAST-MODIFIED:20160629T171105Z
UID:3185-1471600800-1471615200@minasidor.gardstensbostader.se
SUMMARY:Iranska Seniorföreningen
DESCRIPTION:På fredagar håller Iranska seniorföreningen öppet i Seniorlokalen på Muskotgatan 10.\nUdda veckor\, kl. 10-14: Matlagning & Lunchservering med musik och kultur.\nLunch 40:-/person \nJämna veckor\, kl. 10-12: Håller vi öppet för gemenskap
URL:https://minasidor.gardstensbostader.se/evenemanget/iranska-seniorforeningen-5/2016-08-19/
LOCATION:Seniorlokalen i Gårdstenshuset\, Muskotgatan 10\, Angered\, 42441\, Sverige
GEO:57.8040901;12.0314352
X-APPLE-STRUCTURED-LOCATION;VALUE=URI;X-ADDRESS=Seniorlokalen i Gårdstenshuset Muskotgatan 10 Angered 42441 Sverige;X-APPLE-RADIUS=500;X-TITLE=Muskotgatan 10:geo:12.0314352,57.8040901
END:VEVENT
END:VCALENDAR