BEGIN:VCALENDAR
VERSION:2.0
PRODID:-//Gårdstensbostäder - ECPv5.9.1//NONSGML v1.0//EN
CALSCALE:GREGORIAN
METHOD:PUBLISH
X-WR-CALNAME:Gårdstensbostäder
X-ORIGINAL-URL:https://minasidor.gardstensbostader.se
X-WR-CALDESC:Händelser för Gårdstensbostäder
BEGIN:VTIMEZONE
TZID:Europe/Stockholm
BEGIN:DAYLIGHT
TZOFFSETFROM:+0100
TZOFFSETTO:+0200
TZNAME:CEST
DTSTART:20170326T010000
END:DAYLIGHT
BEGIN:STANDARD
TZOFFSETFROM:+0200
TZOFFSETTO:+0100
TZNAME:CET
DTSTART:20171029T010000
END:STANDARD
END:VTIMEZONE
BEGIN:VEVENT
DTSTART;TZID=Europe/Stockholm:20170823T100000
DTEND;TZID=Europe/Stockholm:20170823T120000
DTSTAMP:20260422T110908
CREATED:20170313T081809Z
LAST-MODIFIED:20170814T135808Z
UID:6295-1503482400-1503489600@minasidor.gardstensbostader.se
SUMMARY:Iranska seniorföreningen
DESCRIPTION:Iranska Seniorföreningen håller öppet varje måndag\, onsdag och fredag för alla seniorer i Gårdsten. Fika\, läs tidningen eller kom bara och prata en stund.
URL:https://minasidor.gardstensbostader.se/evenemanget/iranska-seniorforeningen-7-2017-06-28/2017-08-23/
LOCATION:Seniorlokalen i Gårdstenshuset\, Muskotgatan 10\, Angered\, 42441\, Sverige
GEO:57.8040901;12.0314352
X-APPLE-STRUCTURED-LOCATION;VALUE=URI;X-ADDRESS=Seniorlokalen i Gårdstenshuset Muskotgatan 10 Angered 42441 Sverige;X-APPLE-RADIUS=500;X-TITLE=Muskotgatan 10:geo:12.0314352,57.8040901
END:VEVENT
END:VCALENDAR