BEGIN:VCALENDAR
VERSION:2.0
PRODID:-//Gårdstensbostäder - ECPv5.9.1//NONSGML v1.0//EN
CALSCALE:GREGORIAN
METHOD:PUBLISH
X-WR-CALNAME:Gårdstensbostäder
X-ORIGINAL-URL:https://minasidor.gardstensbostader.se
X-WR-CALDESC:Händelser för Gårdstensbostäder
BEGIN:VTIMEZONE
TZID:Europe/Stockholm
BEGIN:DAYLIGHT
TZOFFSETFROM:+0100
TZOFFSETTO:+0200
TZNAME:CEST
DTSTART:20170326T010000
END:DAYLIGHT
BEGIN:STANDARD
TZOFFSETFROM:+0200
TZOFFSETTO:+0100
TZNAME:CET
DTSTART:20171029T010000
END:STANDARD
END:VTIMEZONE
BEGIN:VEVENT
DTSTART;TZID=Europe/Stockholm:20170324T170000
DTEND;TZID=Europe/Stockholm:20170324T183000
DTSTAMP:20260423T005850
CREATED:20170324T080449Z
LAST-MODIFIED:20170324T080449Z
UID:5741-1490374800-1490380200@minasidor.gardstensbostader.se
SUMMARY:Promenad i Gårdsten
DESCRIPTION:Marek Home\, Gårdstensbostäders styrelseledamot startar nu en ”promenadgrupp” på fredagar kl. 17.00. Alla hyresgäster är välkomna och följa med. Samling på kaneltorget i västra Gårdsten.
URL:https://minasidor.gardstensbostader.se/evenemanget/promenad-i-gardsten/2017-03-24/
LOCATION:Kaneltorget 1\, Kaneltorget 1\, Angered\, 42439\, Sverige
GEO:57.8031846;12.0254379
X-APPLE-STRUCTURED-LOCATION;VALUE=URI;X-ADDRESS=Kaneltorget 1 Kaneltorget 1 Angered 42439 Sverige;X-APPLE-RADIUS=500;X-TITLE=Kaneltorget 1:geo:12.0254379,57.8031846
END:VEVENT
END:VCALENDAR