BEGIN:VCALENDAR
VERSION:2.0
PRODID:-//Gårdstensbostäder - ECPv5.9.1//NONSGML v1.0//EN
CALSCALE:GREGORIAN
METHOD:PUBLISH
X-WR-CALNAME:Gårdstensbostäder
X-ORIGINAL-URL:https://minasidor.gardstensbostader.se
X-WR-CALDESC:Händelser för Gårdstensbostäder
BEGIN:VTIMEZONE
TZID:Europe/Stockholm
BEGIN:DAYLIGHT
TZOFFSETFROM:+0100
TZOFFSETTO:+0200
TZNAME:CEST
DTSTART:20170326T010000
END:DAYLIGHT
BEGIN:STANDARD
TZOFFSETFROM:+0200
TZOFFSETTO:+0100
TZNAME:CET
DTSTART:20171029T010000
END:STANDARD
END:VTIMEZONE
BEGIN:VEVENT
DTSTART;TZID=Europe/Stockholm:20170124T160000
DTEND;TZID=Europe/Stockholm:20170124T183000
DTSTAMP:20260423T025427
CREATED:20170105T113131Z
LAST-MODIFIED:20170112T104034Z
UID:5425-1485273600-1485282600@minasidor.gardstensbostader.se
SUMMARY:Samrådsmöte Norra Gårdsten
DESCRIPTION:Välkomna till samrådsmöte tisdagen den 24 januari. På mötet träffar du Stadsbyggnadskontoret samt Botrygg och Egnahemsbolaget som planerar bygga nya bostäder i norra delen av Gårdsten. Området är på Saffransgatans parkeringar och naturmarken vid hållplatsen och ner mot Lövgärdet. \nVälkomna
URL:https://minasidor.gardstensbostader.se/evenemanget/samradsmote-norra-gardsten/
END:VEVENT
END:VCALENDAR