BEGIN:VCALENDAR
VERSION:2.0
PRODID:-//Gårdstensbostäder - ECPv5.9.1//NONSGML v1.0//EN
CALSCALE:GREGORIAN
METHOD:PUBLISH
X-WR-CALNAME:Gårdstensbostäder
X-ORIGINAL-URL:https://minasidor.gardstensbostader.se
X-WR-CALDESC:Händelser för Gårdstensbostäder
BEGIN:VTIMEZONE
TZID:Europe/Stockholm
BEGIN:DAYLIGHT
TZOFFSETFROM:+0100
TZOFFSETTO:+0200
TZNAME:CEST
DTSTART:20170326T010000
END:DAYLIGHT
BEGIN:STANDARD
TZOFFSETFROM:+0200
TZOFFSETTO:+0100
TZNAME:CET
DTSTART:20171029T010000
END:STANDARD
END:VTIMEZONE
BEGIN:VEVENT
DTSTART;TZID=Europe/Stockholm:20170815T100000
DTEND;TZID=Europe/Stockholm:20170815T110000
DTSTAMP:20260422T202905
CREATED:20160607T084823Z
LAST-MODIFIED:20170814T141102Z
UID:5110-1502791200-1502794800@minasidor.gardstensbostader.se
SUMMARY:Sittgympa
DESCRIPTION:Varje tisdag är det sittgympa med Allan. Alla seniorer är hjärtligt välkomna.
URL:https://minasidor.gardstensbostader.se/evenemanget/sittgympa-2-2016-12-20-2017-06-13/2017-08-15/
LOCATION:Seniorlokalen i Gårdstenshuset\, Muskotgatan 10\, Angered\, 42441\, Sverige
ATTACH;FMTTYPE=image/jpeg:/wp-content/uploads/SommarGardsten-2010_125.jpg
GEO:57.8040901;12.0314352
X-APPLE-STRUCTURED-LOCATION;VALUE=URI;X-ADDRESS=Seniorlokalen i Gårdstenshuset Muskotgatan 10 Angered 42441 Sverige;X-APPLE-RADIUS=500;X-TITLE=Muskotgatan 10:geo:12.0314352,57.8040901
END:VEVENT
END:VCALENDAR