BEGIN:VCALENDAR
VERSION:2.0
PRODID:-//Gårdstensbostäder - ECPv5.9.1//NONSGML v1.0//EN
CALSCALE:GREGORIAN
METHOD:PUBLISH
X-WR-CALNAME:Gårdstensbostäder
X-ORIGINAL-URL:https://minasidor.gardstensbostader.se
X-WR-CALDESC:Händelser för Gårdstensbostäder
BEGIN:VTIMEZONE
TZID:Europe/Stockholm
BEGIN:DAYLIGHT
TZOFFSETFROM:+0100
TZOFFSETTO:+0200
TZNAME:CEST
DTSTART:20170326T010000
END:DAYLIGHT
BEGIN:STANDARD
TZOFFSETFROM:+0200
TZOFFSETTO:+0100
TZNAME:CET
DTSTART:20171029T010000
END:STANDARD
END:VTIMEZONE
BEGIN:VEVENT
DTSTART;TZID=Europe/Stockholm:20170903T150000
DTEND;TZID=Europe/Stockholm:20170903T170000
DTSTAMP:20260422T024843
CREATED:20160614T072450Z
LAST-MODIFIED:20170810T130649Z
UID:5981-1504450800-1504458000@minasidor.gardstensbostader.se
SUMMARY:Solhuskafé
DESCRIPTION:Välkommen till Ekgården 39 både nya och gamla hyresgäster i Västra Gårdsten.\nServering av härligt goda hembakade kakor med kaffe 20:- \nKom gärna med förslag till tema som vi kan tala om eller ex. spel\, frågesport\, eller tips om filmer\, musik\, m.m. Vi hoppas att alla i Gårdsten skall känna sig delaktiga i en gemenskap med trivselstund på Caféet\, ung som gammal. Välkommen! \nVarje onsdag året runt spelar vi även boule och träffas i Solhuskafét kl. 15.00.\nBoulespel på utomhusbanan intill\, vid vackert väder.\nVälkomna!
URL:https://minasidor.gardstensbostader.se/evenemanget/solhuskafe-2-2017-08-13/2017-09-03/
LOCATION:Solhuskafé\, Ekgården 39\, Angered\, 42439\, Sverige
GEO:57.8074545;12.024155
X-APPLE-STRUCTURED-LOCATION;VALUE=URI;X-ADDRESS=Solhuskafé Ekgården 39 Angered 42439 Sverige;X-APPLE-RADIUS=500;X-TITLE=Ekgården 39:geo:12.024155,57.8074545
END:VEVENT
END:VCALENDAR