BEGIN:VCALENDAR
VERSION:2.0
PRODID:-//Gårdstensbostäder - ECPv5.9.1//NONSGML v1.0//EN
CALSCALE:GREGORIAN
METHOD:PUBLISH
X-WR-CALNAME:Gårdstensbostäder
X-ORIGINAL-URL:https://minasidor.gardstensbostader.se
X-WR-CALDESC:Händelser för Gårdstensbostäder
BEGIN:VTIMEZONE
TZID:Europe/Stockholm
BEGIN:DAYLIGHT
TZOFFSETFROM:+0100
TZOFFSETTO:+0200
TZNAME:CEST
DTSTART:20170326T010000
END:DAYLIGHT
BEGIN:STANDARD
TZOFFSETFROM:+0200
TZOFFSETTO:+0100
TZNAME:CET
DTSTART:20171029T010000
END:STANDARD
END:VTIMEZONE
BEGIN:VEVENT
DTSTART;TZID=Europe/Stockholm:20170507T150000
DTEND;TZID=Europe/Stockholm:20170507T170000
DTSTAMP:20260423T005555
CREATED:20160614T072450Z
LAST-MODIFIED:20170502T084108Z
UID:4232-1494169200-1494176400@minasidor.gardstensbostader.se
SUMMARY:Solhuskafé
DESCRIPTION:Välkommen till Ekgården 39 både nya och gamla hyresgäster i Västra Gårdsten.\nNu i sommar har vi öppet kl. 15-17 varannan söndag 7 maj\, 21 maj\, 4 juni\,18 juni\, 2 juli\, 16 juli\, 30 juli\,13 augusti och 27 augusti\, Servering av härligt goda hembakade kakor med kaffe 20:-\nVarje onsdag året runt spelar vi även boule och träffas i Solhuskafét kl. 15.00.\nBoulespel på utomhusbanan intill\, vid vackert väder.\nVälkomna! \n \n 
URL:https://minasidor.gardstensbostader.se/evenemanget/solhuskafe-2/2017-05-07/
LOCATION:Solhuskafé\, Ekgården 39\, Angered\, 42439\, Sverige
GEO:57.8074545;12.024155
X-APPLE-STRUCTURED-LOCATION;VALUE=URI;X-ADDRESS=Solhuskafé Ekgården 39 Angered 42439 Sverige;X-APPLE-RADIUS=500;X-TITLE=Ekgården 39:geo:12.024155,57.8074545
END:VEVENT
END:VCALENDAR