BEGIN:VCALENDAR
VERSION:2.0
PRODID:-//Gårdstensbostäder - ECPv5.9.1//NONSGML v1.0//EN
CALSCALE:GREGORIAN
METHOD:PUBLISH
X-WR-CALNAME:Gårdstensbostäder
X-ORIGINAL-URL:https://minasidor.gardstensbostader.se
X-WR-CALDESC:Händelser för Gårdstensbostäder
BEGIN:VTIMEZONE
TZID:Europe/Stockholm
BEGIN:DAYLIGHT
TZOFFSETFROM:+0100
TZOFFSETTO:+0200
TZNAME:CEST
DTSTART:20160327T010000
END:DAYLIGHT
BEGIN:STANDARD
TZOFFSETFROM:+0200
TZOFFSETTO:+0100
TZNAME:CET
DTSTART:20161030T010000
END:STANDARD
END:VTIMEZONE
BEGIN:VEVENT
DTSTART;TZID=Europe/Stockholm:20160615T150000
DTEND;TZID=Europe/Stockholm:20160615T170000
DTSTAMP:20260423T182512
CREATED:20160614T072222Z
LAST-MODIFIED:20160614T072222Z
UID:4223-1466002800-1466010000@minasidor.gardstensbostader.se
SUMMARY:Solhuskafét
DESCRIPTION:Varje onsdag spelar vi boule kl. 15 ute på Ekgårdens boulebana\, vid regn spelar vi inomhus på Solhuskafét. \nAlla gårdstensbor är hjärtligt välkomna.
URL:https://minasidor.gardstensbostader.se/evenemanget/solhuskafet/2016-06-15/
LOCATION:Solhuskafé\, Ekgården 39\, Angered\, 42439\, Sverige
GEO:57.8074545;12.024155
X-APPLE-STRUCTURED-LOCATION;VALUE=URI;X-ADDRESS=Solhuskafé Ekgården 39 Angered 42439 Sverige;X-APPLE-RADIUS=500;X-TITLE=Ekgården 39:geo:12.024155,57.8074545
END:VEVENT
END:VCALENDAR