BEGIN:VCALENDAR
VERSION:2.0
PRODID:-//Gårdstensbostäder - ECPv5.9.1//NONSGML v1.0//EN
CALSCALE:GREGORIAN
METHOD:PUBLISH
X-WR-CALNAME:Gårdstensbostäder
X-ORIGINAL-URL:https://minasidor.gardstensbostader.se
X-WR-CALDESC:Händelser för Gårdstensbostäder
BEGIN:VTIMEZONE
TZID:Europe/Stockholm
BEGIN:DAYLIGHT
TZOFFSETFROM:+0100
TZOFFSETTO:+0200
TZNAME:CEST
DTSTART:20160327T010000
END:DAYLIGHT
BEGIN:STANDARD
TZOFFSETFROM:+0200
TZOFFSETTO:+0100
TZNAME:CET
DTSTART:20161030T010000
END:STANDARD
END:VTIMEZONE
BEGIN:VEVENT
DTSTART;TZID=Europe/Stockholm:20160627T110000
DTEND;TZID=Europe/Stockholm:20160627T140000
DTSTAMP:20260423T182510
CREATED:20160608T121326Z
LAST-MODIFIED:20160616T094737Z
UID:3809-1467025200-1467036000@minasidor.gardstensbostader.se
SUMMARY:Sommarfotboll
DESCRIPTION:Sommarfotbollen i samarbete med GAIS kommer att hållas under vecka 26 i Gårdstensdalen.\nOBS! Föranmälan krävs.\nI kostnaden ngår tröja\, shorts\, strumpor\, vattenflaska och klädpåse.\nKontakta Gårdstensbostäder på 031-332 60 00 eller besök oss på Kastanjgården 3.\n \nFotbollspartners:\nPeab Sverige AB\nEnergi & Miljöteknik i Göteborg AB\nGärde Wesslau Advokatbyrå\nProline Väst AB\nKungälvs Rörläggeri\nBabak kött & chark\nPrimär Fastighetsförvalning AB\nHyresgästföreningen i Norra Gårdsten\nLåssmeden Sven Alexandersson AB\nElektro- centralen Service AB\nMårtensson & Håkansson\nLandskap & Management\nGI fastighetsservice\nW konsult\nLibella kakel
URL:https://minasidor.gardstensbostader.se/evenemanget/sommarfotboll/2016-06-27/
LOCATION:Gårdstensdalen vid utegymmet\, Peppargatan 43\, Angered\, 42439\, Sverige
GEO:57.8029609;12.0275176
X-APPLE-STRUCTURED-LOCATION;VALUE=URI;X-ADDRESS=Gårdstensdalen vid utegymmet Peppargatan 43 Angered 42439 Sverige;X-APPLE-RADIUS=500;X-TITLE=Peppargatan 43:geo:12.0275176,57.8029609
END:VEVENT
END:VCALENDAR