BEGIN:VCALENDAR
VERSION:2.0
PRODID:-//Gårdstensbostäder - ECPv5.9.1//NONSGML v1.0//EN
CALSCALE:GREGORIAN
METHOD:PUBLISH
X-WR-CALNAME:Gårdstensbostäder
X-ORIGINAL-URL:https://minasidor.gardstensbostader.se
X-WR-CALDESC:Händelser för Gårdstensbostäder
BEGIN:VTIMEZONE
TZID:Europe/Stockholm
BEGIN:DAYLIGHT
TZOFFSETFROM:+0100
TZOFFSETTO:+0200
TZNAME:CEST
DTSTART:20160327T010000
END:DAYLIGHT
BEGIN:STANDARD
TZOFFSETFROM:+0200
TZOFFSETTO:+0100
TZNAME:CET
DTSTART:20161030T010000
END:STANDARD
END:VTIMEZONE
BEGIN:VEVENT
DTSTART;TZID=Europe/Stockholm:20160926T120000
DTEND;TZID=Europe/Stockholm:20160926T140000
DTSTAMP:20260423T103756
CREATED:20160607T085410Z
LAST-MODIFIED:20160628T071255Z
UID:3487-1474891200-1474898400@minasidor.gardstensbostader.se
SUMMARY:Spanska
DESCRIPTION:Lär dig spanska på tisdagar i seniorlokalen i Gårdstens centrum. Vi träffas och konverserar på spanska och lär oss nya ord varje gång. Hjärtligt välkomna!
URL:https://minasidor.gardstensbostader.se/evenemanget/spanska-2/2016-09-26/
LOCATION:Seniorlokalen i Gårdstenshuset\, Muskotgatan 10\, Angered\, 42441\, Sverige
ATTACH;FMTTYPE=image/jpeg:/wp-content/uploads/SommarGardsten-2010_125.jpg
GEO:57.8040901;12.0314352
X-APPLE-STRUCTURED-LOCATION;VALUE=URI;X-ADDRESS=Seniorlokalen i Gårdstenshuset Muskotgatan 10 Angered 42441 Sverige;X-APPLE-RADIUS=500;X-TITLE=Muskotgatan 10:geo:12.0314352,57.8040901
END:VEVENT
END:VCALENDAR