BEGIN:VCALENDAR
VERSION:2.0
PRODID:-//Gårdstensbostäder - ECPv5.9.1//NONSGML v1.0//EN
CALSCALE:GREGORIAN
METHOD:PUBLISH
X-WR-CALNAME:Gårdstensbostäder
X-ORIGINAL-URL:https://minasidor.gardstensbostader.se
X-WR-CALDESC:Händelser för Gårdstensbostäder
BEGIN:VTIMEZONE
TZID:Europe/Stockholm
BEGIN:DAYLIGHT
TZOFFSETFROM:+0100
TZOFFSETTO:+0200
TZNAME:CEST
DTSTART:20160327T010000
END:DAYLIGHT
BEGIN:STANDARD
TZOFFSETFROM:+0200
TZOFFSETTO:+0100
TZNAME:CET
DTSTART:20161030T010000
END:STANDARD
END:VTIMEZONE
BEGIN:VEVENT
DTSTART;TZID=Europe/Stockholm:20160808T080000
DTEND;TZID=Europe/Stockholm:20160808T160000
DTSTAMP:20260423T133345
CREATED:20160629T073456Z
LAST-MODIFIED:20160809T092913Z
UID:4726-1470643200-1470672000@minasidor.gardstensbostader.se
SUMMARY:Spela minigolf
DESCRIPTION:I Gårdstensdalen finns en minigolfbanan som har öppet under sommaren kl. 8-16 måndag-fredag.\nMinigolfen ligger mitt i Dalen nedanför Kaneltorget och Gårdstens Centrum.\nVälkomna!
URL:https://minasidor.gardstensbostader.se/evenemanget/spela-minigolf-i-dalen-5/2016-08-08/
LOCATION:Gårdstensdalen vid utegymmet\, Peppargatan 43\, Angered\, 42439\, Sverige
ORGANIZER;CN="G%C3%A5rdstensbost%C3%A4der":MAILTO:gbg@gardstensbostader.se
GEO:57.8029609;12.0275176
X-APPLE-STRUCTURED-LOCATION;VALUE=URI;X-ADDRESS=Gårdstensdalen vid utegymmet Peppargatan 43 Angered 42439 Sverige;X-APPLE-RADIUS=500;X-TITLE=Peppargatan 43:geo:12.0275176,57.8029609
END:VEVENT
END:VCALENDAR