BEGIN:VCALENDAR
VERSION:2.0
PRODID:-//Gårdstensbostäder - ECPv5.9.1//NONSGML v1.0//EN
CALSCALE:GREGORIAN
METHOD:PUBLISH
X-WR-CALNAME:Gårdstensbostäder
X-ORIGINAL-URL:https://minasidor.gardstensbostader.se
X-WR-CALDESC:Händelser för Gårdstensbostäder
BEGIN:VTIMEZONE
TZID:Europe/Stockholm
BEGIN:DAYLIGHT
TZOFFSETFROM:+0100
TZOFFSETTO:+0200
TZNAME:CEST
DTSTART:20170326T010000
END:DAYLIGHT
BEGIN:STANDARD
TZOFFSETFROM:+0200
TZOFFSETTO:+0100
TZNAME:CET
DTSTART:20171029T010000
END:STANDARD
END:VTIMEZONE
BEGIN:VEVENT
DTSTART;TZID=Europe/Stockholm:20170111T173000
DTEND;TZID=Europe/Stockholm:20170111T190000
DTSTAMP:20260423T025428
CREATED:20160607T095511Z
LAST-MODIFIED:20170214T075709Z
UID:3610-1484155800-1484161200@minasidor.gardstensbostader.se
SUMMARY:Gratis gruppträning
DESCRIPTION:Välkomna till TräningsTräffen som drivs i samarbete med Göteborgsvarvet. Det är olika träningsformer och temakväller under våren. Bifogat schema är preliminärt. \nIngen förbokning krävs och träningen är gratis för Gårdstensborna.\nHjärtligt välkomna.\nKontaktperson:\nJohanna Froode\, 0707-49 64 62 eller Salma Nazzal\, 031-332 60 07.\n \nVårens schema: \n\n\n\nDatum\nAktivitet\nLokal\n\n\n11-januari\nStyrka med kroppen\nGårdstens gym\n\n\n18-januari\nYogainspirerad träning\nGårdstens gym\n\n\n25-januari\nBalans och avslappning\nGårdstens gym\n\n\n01-februari\nStyrka med kroppen\nGårdstens gym\n\n\n08-februari\nStyrka med stolar\nI matsalen ovanför gymmet\n\n\n15-februari\nYogainspirerad träning\nGårdstens gym\n\n\n22-februari\nFöreläsning: Träning och Hälsa\nI matsalen ovanför gymmet\n\n\n01-mars\nBalans och avslappning\nGårdstens gym\n\n\n08-mars\nStyrka med stolar\nI matsalen ovanför gymmet\n\n\n15-mars\nZUMBA med Paula Mendes\nIDÉUM\, Kaneltorget 1\n\n\n22-mars\nStyrka med kroppen\nGårdstens gym\n\n\n29-mars\nSjukgymnastik med Eric Senorski\nIDÉUM\, Kaneltorget 1\n\n\n05-april\nYogainspirerad träning\nGårdstens gym\n\n\n12-april\nStyrka och motion\nGårdstens gym\n\n\n19-april\nZUMBA med Paula Mendes\nIDÉUM\, Kaneltorget 1\n\n\n26-april\nStyrka och motion\nGårdstens gym\n\n\n03-maj\nIntervallträning utomhus\nGårdstens gym\n\n\n10-maj\nStyrka och motion\nGårdstens gym\n\n\n16-maj\nTrailvarvet\nSlottsskogen\n\n\n17-maj\nStafettvarvet\nSlottsskogen\n\n\n20-maj\nGöteborgsvarvet 21 km\, Cityvarvet\nSlottsskogen
URL:https://minasidor.gardstensbostader.se/evenemanget/traningstraffen-2-2016-12-21/2017-01-11/
LOCATION:Idéum i Gårdsten\, Kaneltorget 1\, Angered\, 42439\, Sverige
GEO:57.8031846;12.0254379
X-APPLE-STRUCTURED-LOCATION;VALUE=URI;X-ADDRESS=Idéum i Gårdsten Kaneltorget 1 Angered 42439 Sverige;X-APPLE-RADIUS=500;X-TITLE=Kaneltorget 1:geo:12.0254379,57.8031846
END:VEVENT
END:VCALENDAR