BEGIN:VCALENDAR
VERSION:2.0
PRODID:-//Gårdstensbostäder - ECPv5.9.1//NONSGML v1.0//EN
CALSCALE:GREGORIAN
METHOD:PUBLISH
X-WR-CALNAME:Gårdstensbostäder
X-ORIGINAL-URL:https://minasidor.gardstensbostader.se
X-WR-CALDESC:Händelser för Gårdstensbostäder
BEGIN:VTIMEZONE
TZID:Europe/Stockholm
BEGIN:DAYLIGHT
TZOFFSETFROM:+0100
TZOFFSETTO:+0200
TZNAME:CEST
DTSTART:20170326T010000
END:DAYLIGHT
BEGIN:STANDARD
TZOFFSETFROM:+0200
TZOFFSETTO:+0100
TZNAME:CET
DTSTART:20171029T010000
END:STANDARD
END:VTIMEZONE
BEGIN:VEVENT
DTSTART;TZID=Europe/Stockholm:20170110T153000
DTEND;TZID=Europe/Stockholm:20170110T170000
DTSTAMP:20260423T042329
CREATED:20160607T094712Z
LAST-MODIFIED:20170214T080221Z
UID:3591-1484062200-1484067600@minasidor.gardstensbostader.se
SUMMARY:Gratis Gym
DESCRIPTION:Träna på gym varje vecka. Gymmet är gratis för Gårdstensborna. Alla är välkomna att träna kl. 15.30-17.00 varje tisdag.
URL:https://minasidor.gardstensbostader.se/evenemanget/traningstraffen-2016-12-20/2017-01-10/
LOCATION:Gårdstens Gym\, Kaneltorget 1\, Angered\, Sverige
ORGANIZER;CN="G%C3%A5rdstensbost%C3%A4der":MAILTO:gbg@gardstensbostader.se
GEO:57.8031846;12.0254379
X-APPLE-STRUCTURED-LOCATION;VALUE=URI;X-ADDRESS=Gårdstens Gym Kaneltorget 1 Angered Sverige;X-APPLE-RADIUS=500;X-TITLE=Kaneltorget 1:geo:12.0254379,57.8031846
END:VEVENT
END:VCALENDAR