BEGIN:VCALENDAR
VERSION:2.0
PRODID:-//Gårdstensbostäder - ECPv5.9.1//NONSGML v1.0//EN
CALSCALE:GREGORIAN
METHOD:PUBLISH
X-WR-CALNAME:Gårdstensbostäder
X-ORIGINAL-URL:https://minasidor.gardstensbostader.se
X-WR-CALDESC:Händelser för Gårdstensbostäder
BEGIN:VTIMEZONE
TZID:Europe/Stockholm
BEGIN:DAYLIGHT
TZOFFSETFROM:+0100
TZOFFSETTO:+0200
TZNAME:CEST
DTSTART:20160327T010000
END:DAYLIGHT
BEGIN:STANDARD
TZOFFSETFROM:+0200
TZOFFSETTO:+0100
TZNAME:CET
DTSTART:20161030T010000
END:STANDARD
END:VTIMEZONE
BEGIN:VEVENT
DTSTART;TZID=Europe/Stockholm:20161026T170000
DTEND;TZID=Europe/Stockholm:20161026T190000
DTSTAMP:20260423T072850
CREATED:20161010T082634Z
LAST-MODIFIED:20161010T082634Z
UID:4962-1477501200-1477508400@minasidor.gardstensbostader.se
SUMMARY:Trygghetsvandring
DESCRIPTION:Trygghetsvandring i Gårdsten\nVar med och tyck till under höstens trygghetsvandring runt Gårdsten. Trygghetsvandring är en metod där du som boende kan vara med och påverka omgivningen för att skapa en trivsammare och tryggare närmiljö.\nDen 26 okt 2016 genomför Gårdstensbostäder\, för tredje gången\, en trygghetsvandring där vi bjuder in Polisen\, Park och Natur\, Fritidsgården\, Fältargruppen i Angered\, Bevakningsföretag\, Grannsamverkan och framför allt er hyresgäster. Med finns även Trygghetsgruppen\, Huschefer och personal från bolaget. \nTid: Samling med fika kl. 17.00 i lokalen\, därefter promenad runt i Gårdsten\nPlats: Seniorlokalen\, Muskotgatan 10\nUnder vandringen tittar vi bland annat på skötseln av utemiljön\, belysning\, framkomlighet och trafiksäkerhet. Vi diskuterar känslan av trygghet\, det som fungerar bra och det som behöver åtgärdas.\nVälkommen!\nGårdstensbostäder AB
URL:https://minasidor.gardstensbostader.se/evenemanget/trygghetsvandring/
LOCATION:Seniorlokalen i Gårdstenshuset\, Muskotgatan 10\, Angered\, 42441\, Sverige
ORGANIZER;CN="G%C3%A5rdstensbost%C3%A4der":MAILTO:gbg@gardstensbostader.se
GEO:57.8040901;12.0314352
X-APPLE-STRUCTURED-LOCATION;VALUE=URI;X-ADDRESS=Seniorlokalen i Gårdstenshuset Muskotgatan 10 Angered 42441 Sverige;X-APPLE-RADIUS=500;X-TITLE=Muskotgatan 10:geo:12.0314352,57.8040901
END:VEVENT
END:VCALENDAR