BEGIN:VCALENDAR
VERSION:2.0
PRODID:-//Gårdstensbostäder - ECPv5.9.1//NONSGML v1.0//EN
CALSCALE:GREGORIAN
METHOD:PUBLISH
X-WR-CALNAME:Gårdstensbostäder
X-ORIGINAL-URL:https://minasidor.gardstensbostader.se
X-WR-CALDESC:Händelser för Gårdstensbostäder
BEGIN:VTIMEZONE
TZID:Europe/Stockholm
BEGIN:DAYLIGHT
TZOFFSETFROM:+0100
TZOFFSETTO:+0200
TZNAME:CEST
DTSTART:20160327T010000
END:DAYLIGHT
BEGIN:STANDARD
TZOFFSETFROM:+0200
TZOFFSETTO:+0100
TZNAME:CET
DTSTART:20161030T010000
END:STANDARD
END:VTIMEZONE
BEGIN:VEVENT
DTSTART;TZID=Europe/Stockholm:20160831T163000
DTEND;TZID=Europe/Stockholm:20160831T180000
DTSTAMP:20260423T072934
CREATED:20160823T131043Z
LAST-MODIFIED:20160823T131456Z
UID:4857-1472661000-1472666400@minasidor.gardstensbostader.se
SUMMARY:Utställning öppen
DESCRIPTION:Varje onsdag är utställningslokalen öppen i Gårdstens Centrum. \nTitta in och se vilka byggplaner som finns för nya bostäder i Gårdsten. De som planerar bygga är Bo Trygg\, Serneke\, Riksbyggen och Egnahemsbolaget. Under hösten kommer det finnas fler spännande skisser att se. Läs mer i Gårdstens vision 2025
URL:https://minasidor.gardstensbostader.se/evenemanget/utstallning-oppen/2016-08-31/
LOCATION:Gårdstens Centrum\, Muskotgatan 5\, Angered\, 42441\, Sverige
ORGANIZER;CN="G%C3%A5rdstensbost%C3%A4der":MAILTO:gbg@gardstensbostader.se
GEO:57.8038994;12.0320955
X-APPLE-STRUCTURED-LOCATION;VALUE=URI;X-ADDRESS=Gårdstens Centrum Muskotgatan 5 Angered 42441 Sverige;X-APPLE-RADIUS=500;X-TITLE=Muskotgatan 5:geo:12.0320955,57.8038994
END:VEVENT
END:VCALENDAR